BEGIN:VCALENDAR
VERSION:2.0
X-WR-CALNAME:www.indybay.org
PRODID:-//indybay/ical// v1.0//EN
BEGIN:VEVENT
UID:Indybay-18680298
SEQUENCE:18761849
CREATED:20110523T055200Z
DESCRIPTION:Teach-In on the True Cost of Chevron Prior to Demonstrations @ Chevron 
 Shareholder's Mtg. \nMore Info Join members of communities from around the 
 world that have been impacted by Chevron's reckless business operations at 
 this teach-in on the True Cost of Chevron. This event is being held just 
 two days before Chevron's annual shareholder meeting, when the company will 
 release its own annual report.\n\nThen, join us for the rally/protest 
 outside of Chevron's AGM May 25! 
 http://www.facebook.com/event.php?eid=218766281467198\n\nLeaders from... 
 Chevron-affected communities that will be traveling from their homes to 
 join us in the Bay Area for these events include:\n\nHumberto Piaguaje, 
 Amazon Defense Coalition, Ecuador\nEmem Okon, Kebetkache Women Development 
 and Resource Centre, Nigeria\nMardan Pius Ginting, WALHI - Friends of the 
 Earth Indonesia, Indonesia\nGitz Crazyboy (Ryan Deranger), First Nation 
 Dene/Pikini (Blackfoot), Alberta, Canada\nElias Isaac, Open Society 
 Initiative, Angola\nBryan Parras, Texas Environmental Advocacy Services and 
 the Gulf Coast Fund, Houston, Texas\nTom Evans, of the Native village of 
 Nanwalek, CookInlet Keepers, Alaska\n\nWhat Chevron’s annual report won't 
 tell you (or the company's shareholders) is the true cost paid for 
 Chevron’s business operations around the world: the lives lost, the wars 
 fought, the communities destroyed, the environments decimated, the 
 livelihoods ruined, and the political voices silenced. Nor will it describe 
 the global resistance movements gaining voice and strength against 
 Chevron's particularly callous method of operation.\n\nThe Teach-In on the 
 True Cost of Chevron will have the real scoop on Chevron's destructive 
 business and the movements gaining steam around the world to hold the 
 company accountable.\n\nLearn more at: http://truecostofchevron.com/\n \n\n 
 https://www.indybay.org/newsitems/2011/05/22/18680298.php
SUMMARY:Teach-In w World Victims of Chevron Prior to Protest @ Chevron Shareholder's Mtg.
LOCATION:Location David Brower Center, Tamalpais Room\n2150 Allston Way 1 block from 
 Shattuck 1 block from BART\nBerkeley, CA \n
URL:https://www.indybay.org/newsitems/2011/05/22/18680298.php
DTSTART:20110524T020000Z
DTEND:20110524T050000Z
END:VEVENT
END:VCALENDAR
