BEGIN:VCALENDAR
VERSION:2.0
X-WR-CALNAME:www.indybay.org
PRODID:-//indybay/ical// v1.0//EN
BEGIN:VEVENT
UID:Indybay-18680229
SEQUENCE:18761750
CREATED:20110522T025100Z
DESCRIPTION:The California DISCLOSE Act, AB1148, will require disclosure of who is 
 really behind political TV, radio, and print ads, on the ads themselves.  
 Come to the meeting to learn more and sign up to help the campaign gather 
 signatures in support.\n 
 https://www.indybay.org/newsitems/2011/05/21/18680229.php
SUMMARY:Disclose Act Campaign Meeting
LOCATION:Unitarian Universalist Church, Room 6\n505 E. Charleston Rd, Palo Alto CA 
 94306
URL:https://www.indybay.org/newsitems/2011/05/21/18680229.php
DTSTART:20110525T020000Z
DTEND:20110525T033000Z
END:VEVENT
END:VCALENDAR
