BEGIN:VCALENDAR
VERSION:2.0
X-WR-CALNAME:www.indybay.org
PRODID:-//indybay/ical// v1.0//EN
BEGIN:VEVENT
UID:Indybay-18679430
SEQUENCE:18760514
CREATED:20110511T154300Z
DESCRIPTION:NEXT MEETING - Thursday, May 12th. 8:00 at Bound Together. After discussing 
 the first 2 chapters of Society of the Spectacle, our reading group decided 
 to interrupt Debord's book to read the Situationist pamphlet, On The 
 Poverty Of Student Life. The next meeting will be a discussion of this 
 pamphlet.\n\nCome having read the text - to stay true to Debordian 
 tradition, slacker's will face expulsion!\n\nFood and drinks will be 
 limited but provided. Bring some to share if you can!\n\nThis event is, of 
 course, FREE.\n\nHere's a link to a summary of the 
 text:\nhttp://en.wikipedia.org/wiki/On_the_Poverty_of_Student_Life\n\nHere's 
 a Link to the text 
 itself:\nhttp://www.bopsecrets.org/SI/poverty.htm#situation\n\nSee you 
 Thursday!\n https://www.indybay.org/newsitems/2011/05/11/18679430.php
SUMMARY:SITUATIONIST READING GROUP
LOCATION:Bound Together Bookstore: An Anarchist Collective\n1369 Haight Street\nSan 
 Francisco, CA 
URL:https://www.indybay.org/newsitems/2011/05/11/18679430.php
DTSTART:20110513T033000Z
DTEND:20110513T050000Z
END:VEVENT
END:VCALENDAR
