BEGIN:VCALENDAR
VERSION:2.0
X-WR-CALNAME:www.indybay.org
PRODID:-//indybay/ical// v1.0//EN
BEGIN:VEVENT
UID:Indybay-18679214
SEQUENCE:18760234
CREATED:20110508T190700Z
DESCRIPTION:-Come out on Monday and stand for the working class and students of 
 California.\n- The California Teachers Association is planning on bringing 
 300, which is good start. But we need thousands.\n\nTime	Tomorrow at 
 10:30am - May 13 at 5:00pm\nLocation	10th Street and L Street Sacramento, 
 California\nCreated By	 David Hussein Russitano, Gregory S Vickrey, Alex 
 Schmaus\nMore Info	\n\nSTOP BUDGET CUTS THAT AFFECT YOUR 
 COMMUNITY!!!\n\nStop the budget disaster that is coming to California. 
 According to the California Budget Project the rich pay 7.5% of their 
 income while the poorest pay 11%.\n\nNow that the special election isn't 
 happening, we are facing 28 billion in cuts. The cuts that were proposed 
 before:$1.7 billion from the phase-out of redevelopment agencies, $1.7 
 billion in MediCal reductions, $1.5 billion in cuts to the CalWORKs 
 Program, $1.0 billion in reductions to the University of California and 
 California State University, and $1.0 billion from the diversion of 
 Proposition 10 funds\n\nBrown's Plan: 
 http://www.cbp.org/pdfs/2011/110203_chartbook.pdf when he assumed the 
 special election would happen.\n\nThese are the cuts are the tip of the ice 
 burg because they assumed the special election passed. Now it hasn't and we 
 are facing a dire situation! $28 billion is roughly 34% of last years 
 budget and will affect everyone.\n\nWe don't need budget cuts; the 
 possibility of California’s wealth and prosperity is endless, but as long 
 as these programs that don’t address the real issues of wealth 
 displacement in CA, the possibility of a flourishing California is going to 
 fade farther and farther away. We need fair and balanced plan that has a 
 positive outcome for the majority of Californians.\n\nWisconsin and Egypt 
 have shown the way. Change only comes from the voices of the people. All 
 you need to do is show your support and solidarity for the your fellow 
 working citizens. Come occupy the state building to demand a just budget 
 that serves everyone, and stand in solidarity with citizens in the Midwest 
 getting stripped of their rights!!!\n\n\nWhat you can do to make a 
 contribution (show your solidarity even if you can’t make it):\n\n-Post 
 this fb page link on every prominent Civil Rights, Human Rights, 
 Pro-Choice, Pro-Labor, Pro-Education and socially active website you can 
 possibly post on (including the facebook pages of The Nation, Common 
 Dreams, US Uncut, etc.)\n-Post flyers around school campuses and call into 
 radio stations all weekend to spread the word.\n-Come out on Monday and 
 stand for the working class and students of California.\n- The California 
 Teachers Association is planning on bringing 300, which is good start. But 
 we need thousands.\n\n\nBring:\n1. Sleeping bag\n2. Dried food\n3. Musical 
 Instruments (I am bringing my trombone!)\n4. Extra Clothes\n5. Signs\n6. 
 And most important: Your Spirit!\n(7. Bring a friend!)\n\nSee you there!\n 
 https://www.indybay.org/newsitems/2011/05/08/18679214.php
SUMMARY:Occupy The California State Capitol
LOCATION:10th Street and L Street Sacramento, California
URL:https://www.indybay.org/newsitems/2011/05/08/18679214.php
DTSTART:20110509T173000Z
DTEND:20110510T173000Z
END:VEVENT
END:VCALENDAR
