BEGIN:VCALENDAR
VERSION:2.0
X-WR-CALNAME:www.indybay.org
PRODID:-//indybay/ical// v1.0//EN
BEGIN:VEVENT
UID:Indybay-18678954
SEQUENCE:18759873
CREATED:20110505T182300Z
DESCRIPTION:Ted RallJason LeopoldWill Durst\nFrom the Peter B. Collins' ShowJason 
 Leopold on Obama’s contradictory positions on torture.Peter B. Collins' 
 memo to Obama.Ted Rall talks about his new book, "The Anti-American 
 Manifesto".Will Durst on Democratic whiners.\nSource: Obama’s 
 Hypocritical Positions on Torture; PBC says “I’ll Stop Whining 
 If….”; Ted Rall’s Anti-American Manifesto; Will Durst\n\nMusic 
 includes Earth Anthem, How Can a Poor Man Stand Such Times and Live, We'll 
 Meet Again\n\nPlay Program or DownloadPart 1(mp3)Part 2(mp3)Part 3(mp3)Part 
 4(mp3)Great Speeches and Interviews' Past Programs\n 
 https://www.indybay.org/newsitems/2011/05/05/18678954.php
SUMMARY:Obama and Torture
LOCATION:Access Sacramento at 
 http://www.live365.com/stations/accesssacramento?site=pro Streaming or 
 download at 
 http://greatspeechesandinterviews.blogspot.com/2011/05/obama-and-torture.html
URL:https://www.indybay.org/newsitems/2011/05/05/18678954.php
DTSTART:20110509T010000Z
DTEND:20110509T030000Z
END:VEVENT
END:VCALENDAR
