BEGIN:VCALENDAR
VERSION:2.0
X-WR-CALNAME:www.indybay.org
PRODID:-//indybay/ical// v1.0//EN
BEGIN:VEVENT
UID:Indybay-18678819
SEQUENCE:18759684
CREATED:20110504T023900Z
DESCRIPTION:EVA GOLINGER, ATTORNEY AND BEST-SELLING AUTHOR, on her US tour.  Golinger 
 has been uncovering US interventionist policies for several years, but 
 Wikileaks has added a new dimension to her investigative work on US 
 intervention and foreign policy toward Venezuela. Leaked reports and 
 communiques show superpower arrogance and manipulation in Venezuela and all 
 over the world. \n\nShortly after the 2004 coup attempt, she obtained 
 top-secret CIA documents demonstrating prior knowledge and complicity in 
 the coup. Using the Freedom of Information Act, she has found proof of US 
 government funding for groups opposed to Venezuelan President Hugo Chavez. 
 And among the books she's written is "The Chavez Code: Cracking US 
 Intervention in Venezuela." She will talk about her latest discoveries, 
 including how the US government financed opposition media in Venezuela and 
 how, for years, the US State Department and aid agencies have tried to 
 develop youth opposition in Cuba and Venezuela to provoke "regime 
 change."\n https://www.indybay.org/newsitems/2011/05/03/18678819.php
SUMMARY:Eva Golinger: What Wikileaks Means for US- Latin American Relations
LOCATION:Mission Cultural Center Theater\n2868 Mission Street\nSan Francisco, CA 
 94110\n415-821-1155\nhttp://missionculturalcenter.org
URL:https://www.indybay.org/newsitems/2011/05/03/18678819.php
DTSTART:20110513T020000Z
DTEND:20110513T040000Z
END:VEVENT
END:VCALENDAR
