BEGIN:VCALENDAR
VERSION:2.0
X-WR-CALNAME:www.indybay.org
PRODID:-//indybay/ical// v1.0//EN
BEGIN:VEVENT
UID:Indybay-18678382
SEQUENCE:18759122
CREATED:20110428T204200Z
DESCRIPTION:Come hang out with the kool kids and help organize the free skool. Discuss 
 classes, strategize distribution, design and print the next calendar and 
 plan our next benefit. \n 
 https://www.indybay.org/newsitems/2011/04/28/18678382.php
SUMMARY:East Bay Free Skool Planning
LOCATION:Long Haul Infoshop\n3124 Shattuck @ Woolsey, Berkeley 
URL:https://www.indybay.org/newsitems/2011/04/28/18678382.php
DTSTART:20110503T030000Z
DTEND:20110503T033000Z
END:VEVENT
END:VCALENDAR
