BEGIN:VCALENDAR
VERSION:2.0
X-WR-CALNAME:www.indybay.org
PRODID:-//indybay/ical// v1.0//EN
BEGIN:VEVENT
UID:Indybay-18678368
SEQUENCE:18759111
CREATED:20110428T170200Z
DESCRIPTION:Monday May 23, 2011\n\nALPHA & OMEGA\n(So.Cal Heavy 
 Hitters)\nwww.myspace.com/alphaandomegahc\nROTTING 
 OUT\n(L.A.H.C.)\nwww.myspace.com/rottingouthc\nDOWNPRESSER\n(NY-style HxC 
 from Cali)\nhttp://www.last.fm/music/Downpresser\nECOPHAGY\n(Surf City 
 HxC)\nwww.facebook.com/Ecophagy\n\n105 PIONEER ST.\nSANTA CRUZ, CA 
 95060\n$10 @ door\nShow: 8:00\nDoors: 7:30\n105 Pioneer st. is a new D.I.Y. 
 space located in the industrial section of Santa Cruz. Next to the Costco 
 if that helps. PLEASE, respect the space! Spaces to have shows are limited 
 in Santa Cruz and we want to keep this venue for more hardcore, indie, and 
 metal shows. Think of it as Santa Cruz's best kept secret :)\n\n**NO OPEN 
 ALCOHOLIC BEVERAGES, DRUGS, OR WEED ALLOWED OUTSIDE OF THE 
 BUILDING**\n\nBANE SHOWS\nbaneshows.blogspot.com\n 
 https://www.indybay.org/newsitems/2011/04/28/18678368.php
SUMMARY:Alpha & Omega, Rotting Out, Downpresser, Ecophagy
LOCATION:105 Pioneer st.
URL:https://www.indybay.org/newsitems/2011/04/28/18678368.php
DTSTART:20110524T030000Z
DTEND:20110524T060000Z
END:VEVENT
END:VCALENDAR
