BEGIN:VCALENDAR
VERSION:2.0
X-WR-CALNAME:www.indybay.org
PRODID:-//indybay/ical// v1.0//EN
BEGIN:VEVENT
UID:Indybay-18678328
SEQUENCE:18759047
CREATED:20110428T054500Z
DESCRIPTION:5:30 - 7 PM (there is no 5:30 PM option for event listings on here, that's 
 why it says 5 up there)\n\nAikido operates on a spectrum from sharply 
 practical martial awareness to metaphysical practices of sensing the more 
 subtle energies within and around us. We’ll focus on re-aligning 
 ourselves with the powerful natural movements we were born with, and apply 
 that cultivation of personal integrity to connecting with the movements of 
 other bodies that "invade" our space, redirecting aggressive energy with 
 the potential for not inflicting harm, but strongly "suggesting" 
 reconsideration. AND, maybe the best of all- we'll learn to fall down 
 really well; it saved me when I ran into the side of a turning car while 
 flying downhill on my bike!Wear comfortable and free-moving clothing. \n 
 https://www.indybay.org/newsitems/2011/04/27/18678328.php
SUMMARY:East Bay Free Skool Class - Aikilab: Exploring the Dimensions of Aikido
LOCATION:East Bay Seido Karate Dojo\n1934 Bonita Ave. Berkeley 
URL:https://www.indybay.org/newsitems/2011/04/27/18678328.php
DTSTART:20110529T000000Z
DTEND:20110529T020000Z
END:VEVENT
END:VCALENDAR
