BEGIN:VCALENDAR
VERSION:2.0
X-WR-CALNAME:www.indybay.org
PRODID:-//indybay/ical// v1.0//EN
BEGIN:VEVENT
UID:Indybay-18678320
SEQUENCE:18759038
CREATED:20110428T052700Z
DESCRIPTION:Beginners to Intermediates are welcome. It will be an intro to concepts and 
 theory of Herbalism, individual plants, disease patterns, and other 
 pertinent subjects. Classes will be loosely structured, flexible, focused 
 on what the participants would want to learn. Plant walks and field trips 
 might happen depending on everyone’s schedules.\n\nMaximum students - 
 8\n\nMy name is Katya, I have been a plant geek, clinical herbalist, 
 gardener, wildcrafter for the past 10 years. If interested in my bio, 
 please email me at give me a call. Please preregister with me first to 
 confirm your space in class. \n 
 https://www.indybay.org/newsitems/2011/04/27/18678320.php
SUMMARY:East Bay Free Skool Class: Intro to Herbalism
LOCATION:1771 11th street, W. Oakland, CA 
URL:https://www.indybay.org/newsitems/2011/04/27/18678320.php
DTSTART:20110514T010000Z
DTEND:20110514T030000Z
END:VEVENT
END:VCALENDAR
