BEGIN:VCALENDAR
VERSION:2.0
X-WR-CALNAME:www.indybay.org
PRODID:-//indybay/ical// v1.0//EN
BEGIN:VEVENT
UID:Indybay-18678281
SEQUENCE:18758977
CREATED:20110428T025200Z
DESCRIPTION:This is a group that seeks to focus on the intersection of education and 
 radical politics. May will focus on education as a liberatory act that can 
 be used to empower communities toward self- determination. Goes until it's 
 done.\n https://www.indybay.org/newsitems/2011/04/27/18678281.php
SUMMARY:East Bay Free Skool Class: Radical Education Discussion Group
LOCATION:836 A 29th St @ West (It’s in a back lot. Call 775-232-5592 if gate is 
 locked)
URL:https://www.indybay.org/newsitems/2011/04/27/18678281.php
DTSTART:20110515T190000Z
DTEND:20110515T190000Z
END:VEVENT
END:VCALENDAR
