BEGIN:VCALENDAR
VERSION:2.0
X-WR-CALNAME:www.indybay.org
PRODID:-//indybay/ical// v1.0//EN
BEGIN:VEVENT
UID:Indybay-18678260
SEQUENCE:18758944
CREATED:20110427T235900Z
DESCRIPTION:	\nWe are proud to announce following artists who will participate in 
 APOCALYPSE MEOW, a group show examining the dominance of all things feline 
 in contemporary culture.\n\nAudrey Erickson\nBo Heimlich\nBunnie 
 Reiss\nEzra Li\nGarrison Buxton\nHelen Bayly\nKatie Bacigalupi\nKelly 
 Allen\nKristin Farr\nMatt Miller\nMia Christopher\nRyan Jones\nSpencer 
 Keeton Cunningham\nWilliam Emmert\nYuki Miyazaki\nYumiko 
 Kayukawa\n\nhttp://www.facebook.com/event.php?eid=125929610817791\n 
 https://www.indybay.org/newsitems/2011/04/27/18678260.php
SUMMARY:Apocalypse Meow Opening Reception
LOCATION:Space Gallery\n1141 Polk St.\nSan Francisco, CA 94109
URL:https://www.indybay.org/newsitems/2011/04/27/18678260.php
DTSTART:20110515T020000Z
DTEND:20110515T050000Z
END:VEVENT
END:VCALENDAR
