BEGIN:VCALENDAR
VERSION:2.0
X-WR-CALNAME:www.indybay.org
PRODID:-//indybay/ical// v1.0//EN
BEGIN:VEVENT
UID:Indybay-18678220
SEQUENCE:18758902
CREATED:20110427T180100Z
DESCRIPTION:\nVENDOR'S NEEDED!!!!!!!!!\n\n\n\n\n\nLUTHERAN SOCIAL SERVICES OF NORTHERN 
 CALIFORNIA\nIs hosting a\nFLEA MARKET & CRAFT FAIR\n\nwith items ranging 
 from household items, \nfurniture, clothing, small appliances, electronics, 
 and so much more!\n\n\nPlease mark the date:\n\nSaturday, June 18, 
 2011\n10am – 3pm\n\n				      Lutheran Social Services Parking 
 Lot\n						988 Oak Grove Road\n					 	 Concord, CA 94518\n\nReserve a table 
 now:\n\n$30.00 per space\n$40.00 per space with table\n\nHURRY SELLING 
 FAST!\n\nProceeds to benefit Lutheran Social Services of Northern 
 California\n\nFor more information or to make reservations contact:\nCarmen 
 at 925-825-1060 x10 or email: crobinson@lssnorcal.org\n\n\n 
 https://www.indybay.org/newsitems/2011/04/27/18678220.php
SUMMARY:FLEA MARKET & CRAFT FAIR
LOCATION:Lutheran Social Services Parking Lot\n988 Oak Grove Road\nConcord, CA 
 94518\n
URL:https://www.indybay.org/newsitems/2011/04/27/18678220.php
DTSTART:20110618T170000Z
DTEND:20110618T220000Z
END:VEVENT
END:VCALENDAR
