BEGIN:VCALENDAR
VERSION:2.0
X-WR-CALNAME:www.indybay.org
PRODID:-//indybay/ical// v1.0//EN
BEGIN:VEVENT
UID:Indybay-18678146
SEQUENCE:18758799
CREATED:20110427T034600Z
DESCRIPTION:Leaderless bike ride.  The first and still the best.  Gathers at 6, leaves 
 at 6:15.  \n https://www.indybay.org/newsitems/2011/04/26/18678146.php
SUMMARY:San Francisco Critical Mass bike ride
LOCATION:Gather at Justin Herman Plaza - Embarcadero BART 
URL:https://www.indybay.org/newsitems/2011/04/26/18678146.php
DTSTART:20110430T010000Z
DTEND:20110430T033000Z
END:VEVENT
END:VCALENDAR
