BEGIN:VCALENDAR
VERSION:2.0
X-WR-CALNAME:www.indybay.org
PRODID:-//indybay/ical// v1.0//EN
BEGIN:VEVENT
UID:Indybay-18678098
SEQUENCE:18758737
CREATED:20110426T195000Z
DESCRIPTION:F* is for FOSTER: An event in honor of National Foster Care Month\n\nSan 
 Francisco, CA - On Wednesday May 25th the John Burton Foundation for 
 Children Without Homes is hosting a food truck fundraiser at Fort Mason’s 
 Herbst Pavilion to raise awareness and funds in support of California’s 
 200,000 homeless youth and thousands of foster youth. \n\nThe benefit will 
 feature tastings from five favorite Bay Area gourmet food trucks (CurryUp 
 Now; LIBA Falafel; Tacos San Buena; Eat Mo’ Bowl; Little Green Cyclo), 
 bay area breweries (Magnolia Brewery; Black Diamond Brewery; Lagunitas) and 
 wineries (J. Lohr; Vina Castellano). The event will also include live music 
 and a great silent auction (Giants Tickets; Weekend getaways; Silver Oak 
 Wine Package). \n\nAll proceeds from the event will support former foster 
 youth in their pursuits of higher education.\n\nTickets to the main event 
 are $150. Purchase tickets online here: 
 http://www.brownpapertickets.com/event/163679 or with a check payable to 
 The John Burton Foundation sent to: 235 Montgomery Street, Suite 1142, San 
 Francisco, California, 94104.\n\nThe following sponsorship opportunities 
 are available:\nThumbs Up Sponsors- $2,500(2 tickets)\nFist Bump Sponsors- 
 $5,000 (2 tickets) \nHigh Five Sponsors-$10,000 (4 tickets)\nBig Hug 
 Sponsors- $25,000 (6 tickets)\n\nSponsors are invited to join the John 
 Burton Foundation at a VIP champagne reception immediately preceding the 
 event from 5-6pm. \n\nWe hope you will join us. For more information about 
 the event, please visit: www.johnburtonfoundation.org/events.pdf\n\nThe 
 John Burton Foundation for Children Without Homes is a nonprofit 
 organization based in San Francisco, CA dedicated to improving the lives of 
 California’s homeless youth, foster youth, and former foster youth, and 
 developing policy solutions to prevent homelessness. The John Burton 
 Foundation for Children Without Homes is a fiscally sponsored project of 
 Community Initiatives, 501(c)3, tax-id: 94-3255070.\n 
 https://www.indybay.org/newsitems/2011/04/26/18678098.php
SUMMARY:F* is for FOSTER
LOCATION:Fort Mason's Herbst Pavilion, San Francisco, CA (Buchanan St and Marina 
 Blvd)
URL:https://www.indybay.org/newsitems/2011/04/26/18678098.php
DTSTART:20110526T010000Z
DTEND:20110526T040000Z
END:VEVENT
END:VCALENDAR
