BEGIN:VCALENDAR
VERSION:2.0
X-WR-CALNAME:www.indybay.org
PRODID:-//indybay/ical// v1.0//EN
BEGIN:VEVENT
UID:Indybay-18677979
SEQUENCE:18758576
CREATED:20110425T155400Z
DESCRIPTION:PFC Bradley Manning, 23, has been held in solitary confinement in the 
 military brig, first in Kuwait and now Quantico, VA, since May, 2010, when 
 he was arrested and accused of leaking classified information to the online 
 whistleblower site, WikiLeaks . Gay identified, Manning has been held 
 without trial now for 11 months and subjected to increasingly harsh and 
 punitive treatment, including forced nudity and sleep deprivation. His case 
 has garnered international media attention, leading notable figures such as 
 Daniel Ellsberg and filmmaker Michael Moore to speak out in his support. 
 Amnesty International and the United Nations have taken up his 
 cause.\n\nBradley Manning Support Network steering committee member Loraine 
 Reitman will speak about Manning, the international, grassroots movement to 
 lend him support, and his recent move from Quantico to Leavenworth. The 
 informational presentation will be followed by a question and answer 
 period. \n https://www.indybay.org/newsitems/2011/04/25/18677979.php
SUMMARY:Just What Is "Cruel & Unusual Punishment"?
LOCATION:The Unitarian Universalist Fellowship of San Dieguito\n1036 Solana 
 Drive\nSolana Beach CA 92075
URL:https://www.indybay.org/newsitems/2011/04/25/18677979.php
DTSTART:20110508T183000Z
DTEND:20110508T193000Z
END:VEVENT
END:VCALENDAR
