BEGIN:VCALENDAR
VERSION:2.0
X-WR-CALNAME:www.indybay.org
PRODID:-//indybay/ical// v1.0//EN
BEGIN:VEVENT
UID:Indybay-18677944
SEQUENCE:18758519
CREATED:20110424T201600Z
DESCRIPTION:STOP THE ATTACK ON BAY AREA PORT WORKERS!\n\nPacific Maritime Association, 
 Drop All Charges!\n\nAn Injury to One is an Injury to All!\n\nILWU Local 10 
 closed the Ports of Oakland and San Francisco on April 4, 2011, in 
 solidarity with the "We Are One" national day of solidarity with the 
 workers of Wisconsin.\n\nLocal 10 has a long history of such solidarity 
 actions.  They have in the past closed the ports for Justice for Oscar 
 Grant, on May Day 2008 against the war in Iraq, for freedom for Mumia Abu 
 Jamal, and against South African Apartheid.\n\nThe employers association, 
 the Pacific Maritime Association, has filed a law suit against Local 10 to 
 prevent them from engaging in solidarity job actions in the future.\n\nILWU 
 Local 10 is always there for the people.  Now we must stand in solidarity 
 with them.  Their strength is job action and their strength is the most 
 powerful weapon the people's movements have in the Bay Area.\n\nSponsor: 
 Committee to Defend ILWU Local 10\nfor info.: defendlocal10@sonic.net\n 
 https://www.indybay.org/newsitems/2011/04/24/18677944.php
SUMMARY:Stop the attack on Bay Area Port Workers!
LOCATION:555 Market Street, San Francisco\nMonday, April 25, 11:00 am\n\n
URL:https://www.indybay.org/newsitems/2011/04/24/18677944.php
DTSTART:20110425T180000Z
DTEND:20110425T210000Z
END:VEVENT
END:VCALENDAR
