BEGIN:VCALENDAR
VERSION:2.0
X-WR-CALNAME:www.indybay.org
PRODID:-//indybay/ical// v1.0//EN
BEGIN:VEVENT
UID:Indybay-18677322
SEQUENCE:18757847
CREATED:20110416T184700Z
DESCRIPTION:A Series of Discussions about Organizing from a non-sectarian\nMarxist 
 perspective.  We will be discussing with the method of\nPaulo Freire  ideas 
 on organizing from Alinsky to Lenin.\nAlso how the Civil Rights movement, 
 the movement in Oaxaca, etc.\nwas organized.\n 
 https://www.indybay.org/newsitems/2011/04/16/18677322.php
SUMMARY:What is to be done NOW? Paulo Freire Center
LOCATION:412 Murray Street  San Francisco\n(between Richland and Crescent--2 blocks 
 from Mission-south of\nHolly Park-23 bus
URL:https://www.indybay.org/newsitems/2011/04/16/18677322.php
DTSTART:20110423T230000Z
DTEND:20110424T010000Z
END:VEVENT
END:VCALENDAR
