BEGIN:VCALENDAR
VERSION:2.0
X-WR-CALNAME:www.indybay.org
PRODID:-//indybay/ical// v1.0//EN
BEGIN:VEVENT
UID:Indybay-18677134
SEQUENCE:18757090
CREATED:20110414T180200Z
DESCRIPTION:WHO/WHAT: Will Potter will discuss his book Green Is the New Red: An 
 Insider's Guide to a Social Movement Under Siege published by City Lights 
 Publishers in April. \n 
 https://www.indybay.org/newsitems/2011/04/14/18677134.php
SUMMARY:Green Is the New Red discussion with author Will Potter
LOCATION:City Lights Books \n261 Columbus Ave. \nSan Francisco, CA 94133
URL:https://www.indybay.org/newsitems/2011/04/14/18677134.php
DTSTART:20110511T020000Z
DTEND:20110511T020000Z
END:VEVENT
END:VCALENDAR
