BEGIN:VCALENDAR
VERSION:2.0
X-WR-CALNAME:www.indybay.org
PRODID:-//indybay/ical// v1.0//EN
BEGIN:VEVENT
UID:Indybay-18676549
SEQUENCE:18756236
CREATED:20110407T012000Z
DESCRIPTION:There's stll room! Please RSVP. The class will run 8 Sundays, April 10-June 
 12, from 11:00-12:30. \n\nPlease have some experience with dance, wear 
 comfortable clothes, ones I can see your legs in, and a quiet non jingling 
 hip scarf...also please no perfume. Mats are available, but yoga mats are 
 better.\n\nThe studio is very nice, with wood floors, good sound, mirrors 
 and lots of natural light. It is very kind and generous of of 8th Street 
 Studios to let us use this beautiful space.  I am very excited about seeing 
 what blooms from this, and am looking forward to meeting the dancers. 
 Please let me know if you are planning to attend. ~Alisa \n\n 
 https://www.indybay.org/newsitems/2011/04/06/18676549.php
SUMMARY:East Bay Free Skool Class: Belly Dance
LOCATION:8th Street Studio\nBerkeley
URL:https://www.indybay.org/newsitems/2011/04/06/18676549.php
DTSTART:20110410T180000Z
DTEND:20110410T193000Z
END:VEVENT
END:VCALENDAR
