BEGIN:VCALENDAR
VERSION:2.0
X-WR-CALNAME:www.indybay.org
PRODID:-//indybay/ical// v1.0//EN
BEGIN:VEVENT
UID:Indybay-18676525
SEQUENCE:18757455
CREATED:20110406T203900Z
DESCRIPTION:AFSCME unionist Mary Ann Curtis reports on the massive labor uprisings in 
 the Midwest which are sparking resistance across the US. She spoke with 
 students, workers and community protesters and drew inspiration from a 
 militant new movement determined to stop union busting and to confront 
 government officials whose budget cuts and privatization measures rob the 
 poor and working class.\n\nSpring Salad buffet served at noon for an $8 
 donation\n\nDoor donation: $3-5\n 
 https://www.indybay.org/newsitems/2011/04/06/18676525.php
SUMMARY:Class War in Wisconsin: Eyewitness Reportback
LOCATION:New Valencia Hall, 625 Larkin St. #202 -- at Eddy St., near Civic Center 
 BART, on or near #19, 31, 38, 47 & 49 Muni bus lines
URL:https://www.indybay.org/newsitems/2011/04/06/18676525.php
DTSTART:20110417T200000Z
DTEND:20110417T220000Z
END:VEVENT
END:VCALENDAR
