BEGIN:VCALENDAR
VERSION:2.0
X-WR-CALNAME:www.indybay.org
PRODID:-//indybay/ical// v1.0//EN
BEGIN:VEVENT
UID:Indybay-18676434
SEQUENCE:18756049
CREATED:20110405T210700Z
DESCRIPTION:Come watch the film Presumed Guilty, which was recently banned within 
 Mexico, highlighting the problems and injustices faced by two lawyers in 
 their efforts to free Toño Zúñiga in Mexico City who like thousands of 
 other innocent people, was wrongfully imprisoned within the corrupt 
 judicial system. This screening will also feature a short documentary film 
 about collectives organizing in Mexico made by one of the members of 
 Breaking Borders Solidarity 
 Collective.\n\nwww.presuntoculpable.org\n\n'Bre(A)king Borders/Rompiendo 
 Muros' is a new solidarity collective from the Bay Area, interested in 
 justice concerning borders, jails, im/migrants, political prisoners and 
 support for autonomous collectives in Mexico.  We can be reached at 
 breakingborders_rompiendomuros@riseup.net\n\nProceeds will benefit an 
 emerging anarchist info-shop in Mexico City, 'Furia de las Calles' 
 \nhttp://www.espora.org/furia/\n\n\nFood – Drinks – Discussion\n\nfree 
 entrance, all are welcome, (except cops, uniformed or otherwise).\n 
 https://www.indybay.org/newsitems/2011/04/05/18676434.php
SUMMARY:Bre(A)king Borders, screening 'Presumed Guilty', (benefit for anarchist info-shop in DF)
LOCATION:AK Press Warehouse\n674-A 23rd. St Oakland, CA\nb/t MLK and San Pablo - 
 near 19th St. BART and West Grand Exit of 80/980\n
URL:https://www.indybay.org/newsitems/2011/04/05/18676434.php
DTSTART:20110416T020000Z
DTEND:20110416T043000Z
END:VEVENT
END:VCALENDAR
