BEGIN:VCALENDAR
VERSION:2.0
X-WR-CALNAME:www.indybay.org
PRODID:-//indybay/ical// v1.0//EN
BEGIN:VEVENT
UID:Indybay-18676399
SEQUENCE:18755985
CREATED:20110405T132900Z
DESCRIPTION:David McNally will deliver a talk based on his book "Global Slump: The 
 Economics and Politics of Crisis and Resistance" (PM Press, 2011). He 
 argues that—far from having ended—the crisis has ushered in an era of 
 worldwide economic and political turbulence. His analysis fleshes out the 
 roots of the crisis in basic features of capitalism, not just financial 
 deregulation. McNally, a professor of political science at York University, 
 Toronto, will end with an audience Q & A. His book will also be available. 
 If you wish to support the Marxist School’s endeavors, you can make a 
 safe and tax-deductible donation by PayPal from our website: 
 www.marxistschool.org  \n 
 https://www.indybay.org/newsitems/2011/04/05/18676399.php
SUMMARY:David McNally book tour/talk
LOCATION:Sol Collective, 2574 21st Street, Sacramento, CA (1 blk south of Broadway)  
 
URL:https://www.indybay.org/newsitems/2011/04/05/18676399.php
DTSTART:20110415T020000Z
DTEND:20110415T040000Z
END:VEVENT
END:VCALENDAR
