BEGIN:VCALENDAR
VERSION:2.0
X-WR-CALNAME:www.indybay.org
PRODID:-//indybay/ical// v1.0//EN
BEGIN:VEVENT
UID:Indybay-18676115
SEQUENCE:18755570
CREATED:20110402T035000Z
DESCRIPTION:From:\nhttp://local.we-r-1.org\nSponsored by San Francisco Central Labor 
 Council and various labor unions.  The following is from the event 
 announcement of the Local National Writers Union, San Francisco Bay Area 
 Chapter/UAW Local 1981\n\nOn April 4, people from around the country will 
 gather in support of the National Day of Action, to show solidarity for the 
 rights of working people in the face of the latest corporate onslaught 
 against unions,labor and progressive causes.\n\nApril 4 is the anniversary 
 of Dr. Martin Luther King's assassination. Dr. King was killed in Memphis, 
 where he was supporting the efforts of the most invisible workers to 
 organize a union and win their rights. As you know he was also a giant in 
 the fight to win civil rights.\n\nIt is a fitting tribute to him that we 
 meet and show our solidarity together, and demonstrate in favor of our 
 labor rights along with people nationwide.\n 
 https://www.indybay.org/newsitems/2011/04/01/18676115.php
SUMMARY:We are One-SF Downtown March & Rally
LOCATION:Bank of America Building - 555 California St.San Francisco, CA\nMarch to 
 Federal Reserve Bldg, 101 Market, SF (near Embarcadero BART)\n
URL:https://www.indybay.org/newsitems/2011/04/01/18676115.php
DTSTART:20110405T000000Z
DTEND:20110405T020000Z
END:VEVENT
END:VCALENDAR
