BEGIN:VCALENDAR
VERSION:2.0
X-WR-CALNAME:www.indybay.org
PRODID:-//indybay/ical// v1.0//EN
BEGIN:VEVENT
UID:Indybay-18675976
SEQUENCE:18755341
CREATED:20110330T223500Z
DESCRIPTION:We will show the film At the River I Stand about the 1968 Memphis 
 sanitation workers' strike and the assassination of Martin Luther King. 
 Then we will have a panel discussion with workers from Bay Area unions who 
 are organizing actions on April 4th. Unions across the country have called 
 for April 4 to be a national day of action called We Are One where we will 
 stand in solidarity with workers in Wisconsin and everywhere who are 
 fighting for the rights King gave his life for – the right to bargain 
 collectively and work for a better life! Students around the country are 
 standing in solidarity with workers and linking their struggle with the 
 fight for social services.\n 
 https://www.indybay.org/newsitems/2011/03/30/18675976.php
SUMMARY:We Are One: Dr. King, Workers' Rights, & the Fight for Social Services
LOCATION:Auditorium, Berkeley City College\n2050 Center St.\nBerkeley, CA 94704
URL:https://www.indybay.org/newsitems/2011/03/30/18675976.php
DTSTART:20110401T003000Z
DTEND:20110401T020000Z
END:VEVENT
END:VCALENDAR
