BEGIN:VCALENDAR
VERSION:2.0
X-WR-CALNAME:www.indybay.org
PRODID:-//indybay/ical// v1.0//EN
BEGIN:VEVENT
UID:Indybay-18675969
SEQUENCE:18755329
CREATED:20110330T212500Z
DESCRIPTION:Dr.\nRichard Heinberg, author of The Party’s Over, 
 http://richardheinberg.com/ Sonoma\nState to present his theories on how 
 the human race can\nachieve a truly sustainable life. “The End of Growth 
 ” held in SSU’s Cooperage on\n...7 PM 
 www.opednews.com/articles/The-End-of-Economic-Growth-by-Richard-Clark-110317-514.html\n\nfind 
 me on yahoo d_q and 
 aol\n\nhttp://www.facebook.com/event.php?eid=197448070285395\n 
 https://www.indybay.org/newsitems/2011/03/30/18675969.php
SUMMARY:Sonoma State> sustainable life <Heinberg author: 'The Party’s Over' + 'The End of Growth'
LOCATION:SonoMa sTATE 
URL:https://www.indybay.org/newsitems/2011/03/30/18675969.php
DTSTART:20110331T020000Z
DTEND:20110331T040000Z
END:VEVENT
END:VCALENDAR
