BEGIN:VCALENDAR
VERSION:2.0
X-WR-CALNAME:www.indybay.org
PRODID:-//indybay/ical// v1.0//EN
BEGIN:VEVENT
UID:Indybay-18675927
SEQUENCE:18755258
CREATED:20110329T234600Z
DESCRIPTION:Please join us at the MRS* (marine recruiting station) tomorrow 12 
 noon\n\n·        *  To show our distaste for the war machine\n\n·         
 * To engage in dialogue with those in danger of being recruited and those 
 doing the recruiting-\n\n·        * hand out "Tax breaks for the rich" 
 charts that document the social programs losing funding and the "tax 
 breaks" for the wealthy that could easily fund those programs\n\n\nWe have 
 the banners, posters, chairs and even cookies!!\n\nEmail Leeza ( leeza777 
 at msn.com ) for further info..\n\nBut do it ASAP..\n\nPLEASE JOIN 
 US*****\n\n*The MRS is located on Shattuck Ave just south of University 
 Ave, where Shattuck runs one way and north. Two blocks north of the 
 downtown Berkeley BART.\n\n 
 https://www.indybay.org/newsitems/2011/03/29/18675927.php
SUMMARY:Counter-Recruitment Protest at the MRS
LOCATION:MRS (marine recruiting station)\n64 Shattuck Square\nBerkeley\n(*The MRS is 
 located on Shattuck Ave just south of University Ave, where Shattuck runs 
 one way and north. Two blocks north of the downtown Berkeley BART.)
URL:https://www.indybay.org/newsitems/2011/03/29/18675927.php
DTSTART:20110330T190000Z
DTEND:20110330T203000Z
END:VEVENT
END:VCALENDAR
