BEGIN:VCALENDAR
VERSION:2.0
X-WR-CALNAME:www.indybay.org
PRODID:-//indybay/ical// v1.0//EN
BEGIN:VEVENT
UID:Indybay-18675794
SEQUENCE:18755077
CREATED:20110328T182400Z
DESCRIPTION:Sunday, May 15, 2011\n11:00 am -1:00 pm \nHosted by Kathy Levinson and 
 Naomi Fine\nPalo Alto, CA \n\nGay & Lesbian Advocates & Defenders is 
 changing the national landscape for LGBT equality. Learn more and enjoy 
 brunch at the home of Kathy Levinson and Naomi Fine in Palo Alto, CA.\n 
 \nRSVP at www.glad.org/event/2011-california \n\nRemarks by Therese 
 Stewart, San Francisco's Chief Deputy City Attorney who will be welcoming 
 GLAD to California and introducing Mary Bonauto, GLAD's Civil Rights 
 Project Director. Mary Bonauto will speak on the impact of President 
 Obama's decision to not defend DOMA in GLAD's two cases challenging Section 
 3 of the Defense of Marriage Act (DOMA).\n\nHistory speaks for itself – 
 GLAD's impact litigation has secured victories for individuals and set 
 legal precedents followed nationally. GLAD is a principal force in the 
 movement for equal justice under the law. Find out how you can support our 
 strategic litigation to end discrimination on the basis of sexual 
 orientation, HIV status and gender identity and expression.\n 
 https://www.indybay.org/newsitems/2011/03/28/18675794.php
SUMMARY:California: Making History, Changing Lives (GLAD Benefit)
LOCATION:Palo Alto, CA 
URL:https://www.indybay.org/newsitems/2011/03/28/18675794.php
DTSTART:20110515T180000Z
DTEND:20110515T200000Z
END:VEVENT
END:VCALENDAR
