BEGIN:VCALENDAR
VERSION:2.0
X-WR-CALNAME:www.indybay.org
PRODID:-//indybay/ical// v1.0//EN
BEGIN:VEVENT
UID:Indybay-18675785
SEQUENCE:18755059
CREATED:20110328T172600Z
DESCRIPTION:Across the country, working people— employed and unemployed— are facing 
 vicious assaults by the corporate rulers and their bought-and-paid-for 
 politicians. Immigrant workers—documented and undocumented— are facing 
 a rise in racism and anti-immigrant hatred carried out by these same 
 politicians and their discriminatory laws. But all working people are 
 standing up to say, "Enough is Enough!" The workers can show the world, 
 just as in Egypt, that unity is the force that can change history.\n\nJoin 
 community activist, immigrant rights groups, labor groups, and 
 social-justice groups to organize for May 1st 2011— International 
 Workers' Day\n\nInitiated by the May 1st 2010 Coalition\n\n 
 https://www.indybay.org/newsitems/2011/03/28/18675785.php
SUMMARY:First Organizing Meeting for May 1st Demonstration
LOCATION:Redstone Building\n2969 16th St. (between Mission and South Van Ness Sts.), 
 San Francisco
URL:https://www.indybay.org/newsitems/2011/03/28/18675785.php
DTSTART:20110402T200000Z
DTEND:20110402T220000Z
END:VEVENT
END:VCALENDAR
