BEGIN:VCALENDAR
VERSION:2.0
X-WR-CALNAME:www.indybay.org
PRODID:-//indybay/ical// v1.0//EN
BEGIN:VEVENT
UID:Indybay-18675744
SEQUENCE:18755186
CREATED:20110328T000900Z
DESCRIPTION:Join us for an evening that celebrates the shared journey of two resilient 
 cultures coming together over food and conversation. Speakers Quanah Parker 
 Brightman (United Native Americans Vice-President), Dr. Hatem Bazian, and a 
 Palestinian student will share values experience and wisdom on the 
 dispossession of both groups. Poetry, visual presentations, stories, and 
 future visions will enlighten on the day that is also Palestinian Land Day. 
 Sponsored by Students for Justice in Palestine and United for Native 
 Americans.\n\nFood will be served.\n\nFor more info: 
 http://www.facebook.com/event.php?eid=133694933369387 \n\n\n 
 https://www.indybay.org/newsitems/2011/03/27/18675744.php
SUMMARY:Finding Common Ground: Palestinian and Native American Voices
LOCATION:2040 Life Sciences Building, UC Berkeley
URL:https://www.indybay.org/newsitems/2011/03/27/18675744.php
DTSTART:20110331T013000Z
DTEND:20110331T043000Z
END:VEVENT
END:VCALENDAR
