BEGIN:VCALENDAR
VERSION:2.0
X-WR-CALNAME:www.indybay.org
PRODID:-//indybay/ical// v1.0//EN
BEGIN:VEVENT
UID:Indybay-18675472
SEQUENCE:18754581
CREATED:20110324T074100Z
DESCRIPTION:New time!  6:00 pm, March 29\n\nSharat G. Lin spent a week in Tahrir 
 Square, ground zero for the Egyptian Revolution. He discusses how the 
 uprising unfolded and why it is a transformational event for the entire 
 Middle East and the world. \n\nDr. Lin is president of the San Jose Peace & 
 Justice Center. He writes on global political economy, the Middle East and 
 South Asia, labor migration, and public health. \n\nFree and open to the 
 public \nWheelchair accessible \n\nFor more info, call 510-684-6154 
 \n\nSponsored by: \nSouth Alameda County Peace & Justice Coalition 
 \nTri-City Peace & Justice Coalition \nAll Saints Justice & Peace Committee 
 \nPeace & Pizza \n\n 
 https://www.indybay.org/newsitems/2011/03/24/18675472.php
SUMMARY:Revolution in Egypt: Why it is being felt around the World
LOCATION:Castro Valley Library \n3600 Norbridge Avenue \nCastro Valley, CA 94546
URL:https://www.indybay.org/newsitems/2011/03/24/18675472.php
DTSTART:20110330T010000Z
DTEND:20110330T030000Z
END:VEVENT
END:VCALENDAR
