BEGIN:VCALENDAR
VERSION:2.0
X-WR-CALNAME:www.indybay.org
PRODID:-//indybay/ical// v1.0//EN
BEGIN:VEVENT
UID:Indybay-18675270
SEQUENCE:18754281
CREATED:20110322T005000Z
DESCRIPTION:Join TheCommonsSF.org on this survey of socio-economic issues in San 
 Francisco, viewed from the perspective of Black Liberation Theology, 
 conceived by James Cone, the living inspiration of Rev. Jeremiah Wright, 
 President Obama's Chicago pastor.\n\nThe two and half hour walking tour 
 addresses marginalized communities first in San Francisco, and then across 
 the United States and the world.\n\nIf you're up to tackling capitalism, 
 racism, and socialism from a theological perspective, grab your beliefs, 
 bring them along in a bag you don't mind heaving into a dumpster, and 
 prepare to hoof it for two hours through San Francisco's retail and 
 financial downtown.\n 
 https://www.indybay.org/newsitems/2011/03/21/18675270.php
SUMMARY:Black Liberation Theology and San Francisco, a walking tour
LOCATION:American Youth Hostel\n312 Mason Street\nSan Francisco, CA
URL:https://www.indybay.org/newsitems/2011/03/21/18675270.php
DTSTART:20110326T160000Z
DTEND:20110326T183000Z
END:VEVENT
END:VCALENDAR
