BEGIN:VCALENDAR
VERSION:2.0
X-WR-CALNAME:www.indybay.org
PRODID:-//indybay/ical// v1.0//EN
BEGIN:VEVENT
UID:Indybay-18674803
SEQUENCE:18753888
CREATED:20110317T175100Z
DESCRIPTION:Women have a long association with war going back to ancient times.  Their 
 multiple roles in this highly genderized institution have been neglected, 
 obscured or marginalized.  This presentation will offer a brief historical 
 survey of women in war and the military, including roles they have played 
 and myths that perpetuate their subordinate status in these activities.  
 Also covered are women in revolutionary wars and militaries including World 
 War II Soviet military, Cuba and Nepal.\nPresenter: Al Sargis\nSponsor: 
 Friedrich Engels Institute of Marxist War & Military Analysis\n 
 https://www.indybay.org/newsitems/2011/03/17/18674803.php
SUMMARY:Women and War
LOCATION:Niebyl-Proctor Marxist Library, 6501 Telegraph Avenue, Oakland, CA 94609
URL:https://www.indybay.org/newsitems/2011/03/17/18674803.php
DTSTART:20110327T210000Z
DTEND:20110327T223000Z
END:VEVENT
END:VCALENDAR
