BEGIN:VCALENDAR
VERSION:2.0
X-WR-CALNAME:www.indybay.org
PRODID:-//indybay/ical// v1.0//EN
BEGIN:VEVENT
UID:Indybay-18674752
SEQUENCE:18753542
CREATED:20110317T004300Z
DESCRIPTION:Project ETHOS produces red carpet events showcasing all emerging Millennial 
 Generation forms of creativity in one house, on one night. By merging 
 fashion, music, and art concurrently, Project Ethos brings into existence a 
 unique avenue for artists. \n\n 
 https://www.indybay.org/newsitems/2011/03/16/18674752.php
SUMMARY:Project Ethos: Art, Music, Fashion event
LOCATION:Ruby Skye\n420 Mason Street\nSan Francisco, CA 94102-1706\n$15 pre-sale $20 
 at door $40 VIP\n
URL:https://www.indybay.org/newsitems/2011/03/16/18674752.php
DTSTART:20110415T030000Z
DTEND:20110415T090000Z
END:VEVENT
END:VCALENDAR
