BEGIN:VCALENDAR
VERSION:2.0
X-WR-CALNAME:www.indybay.org
PRODID:-//indybay/ical// v1.0//EN
BEGIN:VEVENT
UID:Indybay-18674562
SEQUENCE:18753181
CREATED:20110314T213500Z
DESCRIPTION:Listen and call ins. This discussion pertaining to Japan, US, 
 Radioactivity, Sources to minimize health risks and create boosters for 
 immunities. voicemail\n831 427 4523\nor alt studio 831 427 3772\n 
 https://www.indybay.org/newsitems/2011/03/14/18674562.php
SUMMARY:Are We Glowing Yet?
LOCATION:101.1Fm \nstreaming live radio at \nwww.Freakradio.org
URL:https://www.indybay.org/newsitems/2011/03/14/18674562.php
DTSTART:20110316T020000Z
DTEND:20110316T033000Z
END:VEVENT
END:VCALENDAR
