BEGIN:VCALENDAR
VERSION:2.0
X-WR-CALNAME:www.indybay.org
PRODID:-//indybay/ical// v1.0//EN
BEGIN:VEVENT
UID:Indybay-18674540
SEQUENCE:18753155
CREATED:20110314T173800Z
DESCRIPTION:Bay Area Encore Screening!\n\nThe Land of the Free punishes or imprisons 
 more of its citizens than any other country. This captivating oral history 
 from criminal offenders, family members, and experts on America’s 
 criminal justice system puts a human face on the 1 in 31 Americans 
 subjugated by the US Government's 40 year, one trillion dollar social 
 catastrophe:  The War on Drugs; a failed policy underscored by fear, 
 politics, racial prejudice and intolerance in a public atmosphere of "out 
 of sight, out of mind."\n\nThe American use of punishment is so pervasive, 
 and so disproportionate, that The Economist magazine declared in 2010, 
 "Never in the civilized world have so many been locked up for so 
 little."\n\nView the trailer: http://www.youtube.com/watch?v=zgtjYDnOHUw\n 
 https://www.indybay.org/newsitems/2011/03/14/18674540.php
SUMMARY:Exile Nation Project: An Oral History of the War on Drugs & the US Criminal Justice System
LOCATION:Jellyfish Gallery\n1286 Folsom St\nSan Francisco, CA 94103
URL:https://www.indybay.org/newsitems/2011/03/14/18674540.php
DTSTART:20110401T020000Z
DTEND:20110401T060000Z
END:VEVENT
END:VCALENDAR
