BEGIN:VCALENDAR
VERSION:2.0
X-WR-CALNAME:www.indybay.org
PRODID:-//indybay/ical// v1.0//EN
BEGIN:VEVENT
UID:Indybay-18674336
SEQUENCE:18752851
CREATED:20110311T212000Z
DESCRIPTION:Last program of the 2011 Dr. Martin Luther King, Jr. Legacy 
 Celebration\n\nSpeakers:\n\nAkubundu Lott is Professor of African-American 
 Studies at San José State University and chair of the Africana Center 
 Advisory Committee.\n\nTechicuauhtli Ray Baeza is founder of the SEIU Local 
 521 Latino Caucus and the SEIU Local 521 Social & Economic Justice 
 Committee, and organizer of an annual César Chávez birthday 
 celebration.\n\nMusic:  Jaliya\n\nModerator:  Shelby Minister\n\nReception, 
 refreshments, and food start at 6:30 pm\nProgram starts at 7:00 
 pm\n\nDonation $10-15 (students $5 with ID)\n\nCo-sponsors of the MLK 
 Legacy Celebration:\n•  African American Faculty and Staff Association of 
 SJSU\n•  African American Heritage House\n•  African American Employees 
 of Intel Corp., Silicon Valley Chapter\n•  Africana Center Advisory 
 Committee\n•  Community Arts and History Support\n•  SJSU Library 
 Cultural Heritage Center Advisory Board\n•  Dr. Martin Luther King Jr. 
 Association of Santa Clara Valley\n•  Fairmont Hotel, SJ\n•  
 Golfland\n•  House of Sankofa\n•  Jaliya, Inc.\n•  San José Peace 
 and Justice Center\n•  Santa Clara County Office of Human Relations\n•  
 SEIU Local 521 Latino Caucus\n•  Silicon Valley Arts Council\n\n 
 https://www.indybay.org/newsitems/2011/03/11/18674336.php
SUMMARY:Dr. King and César Chávez: A Common Legacy
LOCATION:San José Peace and Justice Center\n48 South 7th Street\nSan José, CA 
 95112\n
URL:https://www.indybay.org/newsitems/2011/03/11/18674336.php
DTSTART:20110325T013000Z
DTEND:20110325T033000Z
END:VEVENT
END:VCALENDAR
