BEGIN:VCALENDAR
VERSION:2.0
X-WR-CALNAME:www.indybay.org
PRODID:-//indybay/ical// v1.0//EN
BEGIN:VEVENT
UID:Indybay-18674236
SEQUENCE:18752703
CREATED:20110310T184600Z
DESCRIPTION:\n\nRobert Reich shows that inequality causes the booms and busts that 
 United States has been experiencing.  \nSource: Aftershock with Robert 
 Reich\n\n\nPresident Dwight D. Eisenhower's Farewell Address delivered 
 January 17, 1961 where he explains to the nation the "military-industrial 
 complex".\nSource: Dwight D. Eisenhower's Farewell Address\n\n\nTimothy 
 McBain interviews William Hartung\nWilliam Hartung is director of the Arms 
 and Security Initiative at the New America Foundation and an expert on 
 weapons proliferation and military spending.  He updates us on the state of 
 the current military-industrial complex. He comments on how companies like 
 Lockheed Martin have exceeded what Eisenhower envisioned when he coined the 
 phrase.\nSource: A Complex Situation\n\nMusic includes Earth Anthem, Circle 
 of life, In the Year 2525, Modified Broccoli, Spanish Castle Magic, Mr. 
 Tambourine Man, Oh Lord don't let them drop that atomic bomb on me, War 
 After War, We'll met again\n\nPlay Program or DownloadPart 1(mp3)Part 
 2(mp3)Part 3(mp3)Part 4(mp3)Great Speeches and Interviews' Past Programs\n 
 https://www.indybay.org/newsitems/2011/03/10/18674236.php
SUMMARY:Robert Reich: Causes of the economic meltdown
LOCATION:Access Sacramento http://www.live365.com/stations/accesssacramento?site=pro 
 \nStreaming or download at 
 http://greatspeechesandinterviews.blogspot.com/2011/03/robert-reich-causes-of-economic.html
URL:https://www.indybay.org/newsitems/2011/03/10/18674236.php
DTSTART:20110314T010000Z
DTEND:20110314T030000Z
END:VEVENT
END:VCALENDAR
