BEGIN:VCALENDAR
VERSION:2.0
X-WR-CALNAME:www.indybay.org
PRODID:-//indybay/ical// v1.0//EN
BEGIN:VEVENT
UID:Indybay-18674126
SEQUENCE:18752530
CREATED:20110309T003600Z
DESCRIPTION:Bay Area Parent Leadership Action Network (PLAN) would like to invite you 
 to PLAN's Town Hall event.  PLAN is currently working on its Leadership, 
 Engagement, Action & Democracy in Oakland Schools campaign, which is 
 pushing for transparency and accountability in the Oakland Unified School 
 District.  We will be presenting the results of our Parent Engagement 
 Survey and discuss what parent engagement should look like in OUSD.  It 
 will be a place for us to share ideas of how to create change within our 
 schools and community, to demonstrate what parent engagement will be about, 
 and to develop policy priorities for OUSD's strategic planning 
 process.\n\nThis event will bring together parents, students, teachers, 
 administrators and District leaders and we hope you make plans to join us.  
 You can RSVP on-line here http://oaklandfamilieslead.eventbrite.com/.\n\nWe 
 hope to see you on March 16th!\n 
 https://www.indybay.org/newsitems/2011/03/08/18674126.php
SUMMARY:Bay Area Parent Leadership Action Network Town Hall
LOCATION:United for Success Academy auditorium\n2101 35th Avenue in Oakland, CA
URL:https://www.indybay.org/newsitems/2011/03/08/18674126.php
DTSTART:20110317T010000Z
DTEND:20110317T030000Z
END:VEVENT
END:VCALENDAR
