BEGIN:VCALENDAR
VERSION:2.0
X-WR-CALNAME:www.indybay.org
PRODID:-//indybay/ical// v1.0//EN
BEGIN:VEVENT
UID:Indybay-18673967
SEQUENCE:18752314
CREATED:20110306T211100Z
DESCRIPTION:Join us the March 13th, the Sunday prior the International Day Against 
 Police, at noon to kick it in the park and explore ways that we can rely on 
 each other, rather than on the police. There will be Know Your Rights and 
 Copwatch presentations. This is a family-friendly event.\n\nSome food will 
 be provided, but it would be appreciated if people brought their own 
 grillable items. \n\nFood . Music . Bouncehouse . Games . Free Walls . 
 Discussion\n\n\n\n 
 https://www.indybay.org/newsitems/2011/03/06/18673967.php
SUMMARY:Barbeque in the Park for a world without police
LOCATION:Grant St. Park, on Grant St. between Ocean and Emeline
URL:https://www.indybay.org/newsitems/2011/03/06/18673967.php
DTSTART:20110313T190000Z
DTEND:20110314T000000Z
END:VEVENT
END:VCALENDAR
