BEGIN:VCALENDAR
VERSION:2.0
X-WR-CALNAME:www.indybay.org
PRODID:-//indybay/ical// v1.0//EN
BEGIN:VEVENT
UID:Indybay-18673638
SEQUENCE:18751835
CREATED:20110302T222500Z
DESCRIPTION:Forum: Libya and the Arab revolt in perspective\n\nThe Middle East and 
 North Africa, which hold two-thirds of the world’s known oil reserves, 
 have assumed a central place in U.S. foreign policy strategy as uprisings 
 have spread through the Arab world. A quick review of U.S. foreign policy 
 in the region reveals that the government has never had an interest in 
 democracy, nor has it ever cared about the Arab masses. Every word out of 
 the mouths of the U.S. ruling class, no matter how it is sugar-coated, 
 flows from its desire to maintain access to the region’s vast natural 
 resources.\n\nFrom Tunisia to Yemen, the deep skepticism and hostility 
 toward Western governments is rooted in recent history.  Imperialist 
 intervention, past and present, must be the starting point for activists 
 located in the United States and Europe when it comes to the Libyan revolt. 
 Join us for an analysis and discussion on recent developments in the Middle 
 East and how best we can support true movements for democracy.\n\nAlso, 
 hear a report on the people’s tribunal against former CIA asset, Posada 
 Carriles – the man responsible for the crash of a Cuban passenger plane 
 and many other terrorist acts.\n\n2969 Mission St., San Francisco\n\n$3 - 
 $5 donation requested, no one turned away for lack of funds.\n(Refreshments 
 served. Cross street 25th and 26th. Near 24th St. BART. MUNI #14, 49. For 
 more info contact PSL at 415-821-6171.\n\nCheck out our website: 
 http://www.pslweb.org\nDaily News & Analysis from a Marxist Perspective. 
 The Party for Socialism and Liberation has a website filled with great 
 political material from a Marxist perspective. On it, you can get news and 
 analysis, breaking stories, learn about PSL events across the country, 
 download audio and video and other political resources, find out how to get 
 involved with the PSL and much more. Go to the website and look around, 
 bookmark it and share it with your friends and family. Check  
 http://www.pslweb.org each day for updated information and news. Make 
 socialism a part of your everyday life!\n\nSubscribe: check out our 
 bi-weekly newspaper Liberation\nGet a Marxist analysis of the critical 
 political developments of the day, reports on liberation struggles around 
 the world, and educational articles with content that every activist should 
 learn. Go to  http://www.pslweb.org to read current selections and back 
 issues and to find out how to subscribe. Liberation is our biweekly 
 newspaper. Go to  http://www.pslweb.org to read it and find out more about 
 the working class struggle.\n\nForo y Discusión de Partido para el 
 Socialismo y la Liberación\n\nLibia y los levantamientos árabes en 
 perspectiva\nNo tiene nada que ofrece el Imperialismo al Medio 
 Oriente\n\nViernes, 4 de marzo, 7pm\n \n\nEl Medio Oriente y el Norte de 
 África, que mantienen dos-tercios de las reservas conocidas mundiales de 
 petróleo, han asumido un role central para la estrategia de la política 
 extranjera de los EE.UU. en un momento que levantamientos se han desplazado 
 por todo el mundo árabe. Un examen breve de la política extranjera de los 
 EE.UU. en la región revela que el gobierno nunca ha tenido un interés en 
 democracia, ni ha mostrado interés por las masas árabes. Cada palabra que 
 sale de las bocas de la clase gobernante estadounidense, sin importar que 
 bonitas aparentan, solo salen de su deseo de mantener acceso a los enormes 
 recursos naturales de la región.\n\nDesde Túnez a Yemen, el profundo 
 escepticismo y hostilidad hacia los gobiernos occidentales son gracias a 
 una historia reciente. El intervencionismo imperialista, pasado y presente, 
 deben de ser puntos de inicio para activistas que se encuentran en los 
 EE.UU. y Europa cuando se está tratando la rebelión libio. Únase con 
 nosotros para un análisis y discusión sobre los aconteceres recientes en 
 el Medio Oriente y cómo podemos mejor apoyar los movimientos verdaderos 
 por la democracia.\n\nTambién, escuche un reporte sobre el tribunal 
 popular contra el ex-asistente de la CIA, Posada Carriles- el principal 
 responsable por la caída del avión pasajero cubano y muchos otros actos 
 terroristas.\n\n2969 Mission St., San Francisco\n\nSugerimos una donación 
 de $3 a $5, todos bienvenidos, con o sin fondos.\n(Habrá antojitos. 
 Esquiná de la calle 25 y 26, acerca de BART/24 St., MUNI #14, 49)\n\nPara 
 mayor información llame al PSL, en 415-821-6171.\n\nVisite nuestra página 
 web: http://www.pslweb.org\nDel día y análisis desde un punto de vista 
 Marxista. El Partido para el Socialismo y Liberación tiene una página web 
 llena de gran material político desde un punto de vista Marxista. En la 
 página, obtendrá noticias y análisis, noticias del momento, y aprenderá 
 sobre eventos del PSL por todo el país. Puede bajar audio y video y otros 
 recursos políticos, encontrará información de cómo involucrarse con el 
 PSL, y mucho más. Vaya a nuest ra página web y explórela, márquela y 
 compártela con sus amigos y familia. Visite http://www.pslweb.org cada 
 día para información actual y noticias. ¡Haga el socialismo parte de 
 cada día de su vida!\n\nSubscríbese al Liberación y revise nuestro 
 periódico bisemanal\nNoticias del día y análisis desde un punto de vista 
 Marxista. Liberación es una publicación de cada 15 días para activistas, 
 escrito por activistas. Recibe análisis socialista sobre acontecimientos 
 políticos críticos del día, reportes sobre luchas de liberación 
 alrededor del mundo, y artículos educativos con contenido que cada 
 activista debería aprender.\n\nVaya a http://www.pslweb.org para leer 
 selecciones actuales y publicaciones anteriores y para aprender como 
 subscribirse. Liberación es nuestro periódico bisemanal. Visite 
 http://www.pslweb.org para leerlo y encontrar más sobre la lucha de la 
 clase trabajadora.\n\n 
 https://www.indybay.org/newsitems/2011/03/02/18673638.php
SUMMARY:Libya & the Arab revolt in perspective/Libia y los levantamientos árabes en perspectiva
LOCATION:2969 Mission St., San Francisco\n\n$3 - $5 donation requested, no one 
 turned away for lack of funds.\n(Refreshments served. Cross street 25th and 
 26th. Near 24th St. BART. MUNI #14, 49. For more info contact PSL at 
 415-821-6171.\n\n
URL:https://www.indybay.org/newsitems/2011/03/02/18673638.php
DTSTART:20110305T030000Z
DTEND:20110305T050000Z
END:VEVENT
END:VCALENDAR
