BEGIN:VCALENDAR
VERSION:2.0
X-WR-CALNAME:www.indybay.org
PRODID:-//indybay/ical// v1.0//EN
BEGIN:VEVENT
UID:Indybay-18673624
SEQUENCE:18751821
CREATED:20110302T184700Z
DESCRIPTION:	\nIn an unprecedented revolutionary wave, uprisings are breaking out in 
 every corner of the Middle East. Oppressed people throughout the Arab 
 world, enraged by massive poverty, high prices for essential goods and 
 widespread unemployment, are rising up against corrupt, U.S.-backed 
 governments.\n\nWith the outbreak of revolutionary movements in Tunisia and 
 Egypt, the Middle East has witnessed mass uprisings against U.S. client 
 dictators in many countries, including Yemen, Algeria, Bahrain, Jordan and 
 elsewhere.\n\nJoin us for a panel and community forum to discuss the mass 
 uprisings in different countries, and what the implications are for the 
 entire region.\n https://www.indybay.org/newsitems/2011/03/02/18673624.php
SUMMARY:Community Forum: "Revolution in the Arab World: What's Next?"
LOCATION:Conference Room A, De Anza College\n21250 Stevens Creek Blvd.\nCupertino
URL:https://www.indybay.org/newsitems/2011/03/02/18673624.php
DTSTART:20110304T023000Z
DTEND:20110304T043000Z
END:VEVENT
END:VCALENDAR
