BEGIN:VCALENDAR
VERSION:2.0
X-WR-CALNAME:www.indybay.org
PRODID:-//indybay/ical// v1.0//EN
BEGIN:VEVENT
UID:Indybay-18673513
SEQUENCE:18751689
CREATED:20110301T175800Z
DESCRIPTION:hosted by Autumn \nshortstuff5650@hotmail.com \n\nA simple Spanish class 
 for beginners. Build vocabulary, practice basic grammar, no experience 
 needed. All are welcome at any class. I structure it around who shows up.   
 \n\n836 A 29th St @ West (it’s in a back lot so call 775-232-5592 if you 
 arrive late to get let in)\n\nSundays 11am \n\n 
 https://www.indybay.org/newsitems/2011/03/01/18673513.php
SUMMARY:East Bay Free Skool Class: Spanish for Beginners
LOCATION:836 A 29th St Oakland
URL:https://www.indybay.org/newsitems/2011/03/01/18673513.php
DTSTART:20110327T180000Z
DTEND:20110327T190000Z
END:VEVENT
END:VCALENDAR
