BEGIN:VCALENDAR
VERSION:2.0
X-WR-CALNAME:www.indybay.org
PRODID:-//indybay/ical// v1.0//EN
BEGIN:VEVENT
UID:Indybay-18673364
SEQUENCE:18751523
CREATED:20110301T012800Z
DESCRIPTION:Tony Blair will be in Cupertino, March 10th\n\nBlair should be tried for 
 sedition, and subversive activities for crimes including but not limited to 
 submitting and fomenting false information leading to the war in Iraq, the 
 illegal detainment and systematic torture of prisoners at Guantanamo Bay 
 and Bagram prisons and other fraudulent acts leading to the deaths of 
 military personnel as well as the killing of approximately 300,000 
 Iraqis.\n\nLocation: Flint Center/DeAnza College, Sunken Garden, DeAnza 
 College Pkwy (off Mary Avenue and Stevens Creek Blvd), Cupertino, CA 
 95014\nTime: Assemble at 6:45pm\n\nWhile he is busying himself with 
 speaking engagements, CODEPINK and others are determined to see one of the 
 deciders of the Iraq war in cuffs and off to prison. WE won't really be 
 satisfied until we see Blair with cuffs on.\n 
 https://www.indybay.org/newsitems/2011/02/28/18673364.php
SUMMARY:Protest War Criminal Tony Blair
LOCATION:Flint Center/DeAnza College\nSunken Garden\nDeAnza College Pkwy (off Mary 
 Avenue and Stevens Creek Blvd)\nCupertino, CA 95014
URL:https://www.indybay.org/newsitems/2011/02/28/18673364.php
DTSTART:20110311T024500Z
DTEND:20110311T024500Z
END:VEVENT
END:VCALENDAR
