BEGIN:VCALENDAR
VERSION:2.0
X-WR-CALNAME:www.indybay.org
PRODID:-//indybay/ical// v1.0//EN
BEGIN:VEVENT
UID:Indybay-18673354
SEQUENCE:18751514
CREATED:20110228T224100Z
DESCRIPTION:The 16th Annual Bay Area Anarchist Bookfair will be tabled by radical 
 organizations, bookstores and publishing houses. It features a schedule of 
 author speakers and panel discussions. Bike valet is available, as well as 
 childcare and the cafe! \n\nPlease see http://sfbookfair.wordpress.com/ for 
 more details...\n https://www.indybay.org/newsitems/2011/02/28/18673354.php
SUMMARY:16th Annual Bay Area Anarchist Bookfair
LOCATION:SF County Fair Building (Hall of Flowers), Golden Gate Park\nNinth Avenue 
 and Lincoln
URL:https://www.indybay.org/newsitems/2011/02/28/18673354.php
DTSTART:20110410T180000Z
DTEND:20110411T000000Z
END:VEVENT
END:VCALENDAR
