BEGIN:VCALENDAR
VERSION:2.0
X-WR-CALNAME:www.indybay.org
PRODID:-//indybay/ical// v1.0//EN
BEGIN:VEVENT
UID:Indybay-18673182
SEQUENCE:18751302
CREATED:20110227T035500Z
DESCRIPTION:Panelists:\nHatem Bazian (UC Berkeley), Mira Nabulsi (SFSU) and Ziad Abbas 
 (MECA)\n https://www.indybay.org/newsitems/2011/02/26/18673182.php
SUMMARY:"Life Under Occupation and Palestinian Civil Society's call for Boycott, Divestment..."
LOCATION:BOALT HALL ROOM 100 (Boalt School of Law at University of California, 
 Berkeley @ Bancroft and Telegraph)
URL:https://www.indybay.org/newsitems/2011/02/26/18673182.php
DTSTART:20110310T030000Z
DTEND:20110310T053000Z
END:VEVENT
END:VCALENDAR
