BEGIN:VCALENDAR
VERSION:2.0
X-WR-CALNAME:www.indybay.org
PRODID:-//indybay/ical// v1.0//EN
BEGIN:VEVENT
UID:Indybay-18672973
SEQUENCE:18751040
CREATED:20110225T035300Z
DESCRIPTION:Join thousands of women, children and men around the world who will be 
 gathering building bridges of peace. \n\nBring banners, signs and your 
 loved ones and join together for peace and equality. \n\nThe event will be 
 calling for an end to violence against women and bringing awareness of the 
 current status of women. \n\nWe will march from the bridge to downtown 
 where we will have special guests: \n\nWomen with Wings, Rev. Deb-Inner 
 Light Ministries, WILPF, Lex-Spoken Word, Jessica Perry and Alyssa 
 Benveniste-Planned Parenthood, the raging Grannies, Jasmine-Spoken Word, 
 Mavel Armijo-SCCCCOR, Ekua Omosupe-Author, Aurora Winslade-UCSC 
 Sustainability and many more... \n\nLet's get out for this one!\n\nCome 
 Celebrate the 100th Anniversary of International Women's Day with us! \n 
 https://www.indybay.org/newsitems/2011/02/24/18672973.php
SUMMARY:Join Women on the Bridge
LOCATION:Water Street Bridge, between Ocean Street and Front, then heading downtown.
URL:https://www.indybay.org/newsitems/2011/02/24/18672973.php
DTSTART:20110309T010000Z
DTEND:20110309T040000Z
END:VEVENT
END:VCALENDAR
