BEGIN:VCALENDAR
VERSION:2.0
X-WR-CALNAME:www.indybay.org
PRODID:-//indybay/ical// v1.0//EN
BEGIN:VEVENT
UID:Indybay-18672359
SEQUENCE:18750199
CREATED:20110218T014500Z
DESCRIPTION:East Bay Freeskool and Video Action Network will hold a monthly general 
 announcement talking circle for broadcast on "Berkeley Speaks" at BETV. All 
 are welcome.\n\nhttp://eastbayfreeskool.wikia.com \n 
 https://www.indybay.org/newsitems/2011/02/17/18672359.php
SUMMARY:Video Action Skillshare and Talking Circle
LOCATION:Berkeley Community Media 2239 Martin Luther King, Jr. Way Berkeley
URL:https://www.indybay.org/newsitems/2011/02/17/18672359.php
DTSTART:20110316T020000Z
DTEND:20110316T033000Z
END:VEVENT
END:VCALENDAR
