BEGIN:VCALENDAR
VERSION:2.0
X-WR-CALNAME:www.indybay.org
PRODID:-//indybay/ical// v1.0//EN
BEGIN:VEVENT
UID:Indybay-18672008
SEQUENCE:18749710
CREATED:20110215T015500Z
DESCRIPTION:The revolutionary intifada in Egypt has reaffirmed the truth that the 
 people make history. Protected by a security apparatus numbering 1.7 
 million, Mubarak's position appeared to many to be invulnerable. He is gone 
 but major elements of the old regime, and Washington, are trying to 
 "manage" the revolutionary process in their own interests. Many of the key 
 demands of the mass protests—an end to the 30-year-old state of 
 emergency, release of political prisoners, the right to organize real 
 unions, an end to the blockade of Gaza—have not been met.\n\nJoin us for 
 a panel and community forum to discuss critical challenges now facing the 
 revolution, and implications for Egypt and the entire region. \n\n$5-10 
 donation (no one turned away for lack of funds). Call 415-821-6545 for more 
 info. \n https://www.indybay.org/newsitems/2011/02/14/18672008.php
SUMMARY:Community Forum - The Egyptian Revolution: What Next?
LOCATION:NEW ANSWER Coalition Office, 2969 Mission St. (near 26th St.)
URL:https://www.indybay.org/newsitems/2011/02/14/18672008.php
DTSTART:20110219T030000Z
DTEND:20110219T050000Z
END:VEVENT
END:VCALENDAR
