BEGIN:VCALENDAR
VERSION:2.0
X-WR-CALNAME:www.indybay.org
PRODID:-//indybay/ical// v1.0//EN
BEGIN:VEVENT
UID:Indybay-18671190
SEQUENCE:18748700
CREATED:20110205T030000Z
DESCRIPTION:A volunteer-run Know Your Rights training to help make you comfortable with 
 asserting your rights and monitoring the police for misconduct.\n 
 https://www.indybay.org/newsitems/2011/02/04/18671190.php
SUMMARY:Know Your Rights Training
LOCATION:2022 Blake St at Shattuck in Berkeley
URL:https://www.indybay.org/newsitems/2011/02/04/18671190.php
DTSTART:20110212T190000Z
DTEND:20110212T210000Z
END:VEVENT
END:VCALENDAR
